BEGIN:VCALENDAR
VERSION:2.0
PRODID:-//ALF Houston - ECPv6.15.1.1//NONSGML v1.0//EN
CALSCALE:GREGORIAN
METHOD:PUBLISH
X-WR-CALNAME:ALF Houston
X-ORIGINAL-URL:https://www.alfhouston.com
X-WR-CALDESC:Events for ALF Houston
REFRESH-INTERVAL;VALUE=DURATION:PT1H
X-Robots-Tag:noindex
X-PUBLISHED-TTL:PT1H
BEGIN:VTIMEZONE
TZID:America/Chicago
BEGIN:DAYLIGHT
TZOFFSETFROM:-0600
TZOFFSETTO:-0500
TZNAME:CDT
DTSTART:20260308T080000
END:DAYLIGHT
BEGIN:STANDARD
TZOFFSETFROM:-0500
TZOFFSETTO:-0600
TZNAME:CST
DTSTART:20261101T070000
END:STANDARD
END:VTIMEZONE
BEGIN:VEVENT
DTSTART;TZID=America/Chicago:20260326T173000
DTEND;TZID=America/Chicago:20260326T193000
DTSTAMP:20260424T174237
CREATED:20260213T045240Z
LAST-MODIFIED:20260326T165249Z
UID:13490-1774546200-1774553400@www.alfhouston.com
SUMMARY:Celebrating Houston's Trailblazers
DESCRIPTION:ALF is hosting a Happy Hour to Celebrate Senior Fellows Maria Moncada-Alaoui and Amy Perez\, hosted by Senior Fellow Stephanie Tsuru!\n\n\nIn honor of International Women’s Month\, join ALF for an inspiring evening spotlighting two extraordinary leaders who are forging unique paths. \nAt Celebrating Houston’s Trailblazers\, we will spotlight two trailblazing Senior Fellows forging new paths: \n\nMaria Moncada-Alaoui\, Class 63\, a senior executive who has built her entire career in the automotive industry—navigating\, leading\, and thriving in a field where women remain underrepresented.\nAmy Perez\, Class 64\, the newly appointed CFO of one of Houston’s major sports stadiums\, stepping into a high-impact financial leadership role at the center of one of the city’s most visible institutions.\n\nThese remarkable leaders will be featured in an engaging fireside chat moderated by Senior Fellow Stephanie Tsuru\, Class 55 and co-founder of SheSpace\, the women-centered coworking community she launched five years ago. The conversation will explore career inflection points\, influence\, and what it takes to lead under often challenging circumstances. \nFollowing the program\, guests will enjoy light bites and libations while connecting with fellow ALF Senior Fellows and community leaders. This evening is designed to celebrate and connect leaders! \nWhile this event honors women and the spirit of International Women’s Month\, it is open to everyone. We welcome men and women alike to join us in celebrating leadership and community. \nCome ready to be inspired—and to build community with Houston’s changemakers.
URL:https://www.alfhouston.com/event/celebrating-houstons-trailblazers/
LOCATION:SheSpace\, 2799 Katy Freeway #Suite 250\, Houston\, TX 77007\, Houston\, TX\, 77007\, US
ATTACH;FMTTYPE=image/png:https://www.alfhouston.com/wp-content/uploads/2026/02/13490_image-1.png
END:VEVENT
END:VCALENDAR