BEGIN:VCALENDAR
VERSION:2.0
PRODID:-//ALF Houston - ECPv6.15.1.1//NONSGML v1.0//EN
CALSCALE:GREGORIAN
METHOD:PUBLISH
X-ORIGINAL-URL:https://www.alfhouston.com
X-WR-CALDESC:Events for ALF Houston
REFRESH-INTERVAL;VALUE=DURATION:PT1H
X-Robots-Tag:noindex
X-PUBLISHED-TTL:PT1H
BEGIN:VTIMEZONE
TZID:America/Chicago
BEGIN:DAYLIGHT
TZOFFSETFROM:-0600
TZOFFSETTO:-0500
TZNAME:CDT
DTSTART:20260308T080000
END:DAYLIGHT
BEGIN:STANDARD
TZOFFSETFROM:-0500
TZOFFSETTO:-0600
TZNAME:CST
DTSTART:20261101T070000
END:STANDARD
END:VTIMEZONE
BEGIN:VEVENT
DTSTART;TZID=America/Chicago:20260422T140000
DTEND;TZID=America/Chicago:20260528T144500
DTSTAMP:20260424T161534
CREATED:20260419T045416Z
LAST-MODIFIED:20260422T045211Z
UID:13713-1776866400-1779979500@www.alfhouston.com
SUMMARY:ALF Ismaili Center Tour
DESCRIPTION:An opportunity for Bridge Houston Practitioners to get a guided tour of the Ismaili Center joined by some ALF Senior Fellows.\n\n\nThe very knowledgable Ismaili Center tour guides will provide information on the Ismaili Center’s architecture\, symbolism and the Ismaili faith.
URL:https://www.alfhouston.com/event/alf-ismaili-center-tour-2/
LOCATION:The Ismaili Center\, 2323 Allen Parkway\, Houston\, TX 77019\, Houston\, TX\, 77019\, US
ATTACH;FMTTYPE=image/png:https://www.alfhouston.com/wp-content/uploads/2026/04/13711_image.png
END:VEVENT
BEGIN:VEVENT
DTSTART;TZID=America/Chicago:20260423T130000
DTEND;TZID=America/Chicago:20260528T134500
DTSTAMP:20260424T161534
CREATED:20260419T045417Z
LAST-MODIFIED:20260422T165202Z
UID:13714-1776949200-1779975900@www.alfhouston.com
SUMMARY:ALF Ismaili Center Tour
DESCRIPTION:An opportunity for Bridge Houston Practitioners to get a guided tour of the Ismaili Center joined by some ALF Senior Fellows.\n\n\nThe very knowledgable Ismaili Center tour guides will provide information on the Ismaili Center’s architecture\, symbolism and the Ismaili faith.
URL:https://www.alfhouston.com/event/alf-ismaili-center-tour-3/
LOCATION:The Ismaili Center\, 2323 Allen Parkway\, Houston\, TX 77019\, Houston\, TX\, 77019\, US
ATTACH;FMTTYPE=image/png:https://www.alfhouston.com/wp-content/uploads/2026/04/13711_image.png
END:VEVENT
END:VCALENDAR