BEGIN:VCALENDAR
VERSION:2.0
PRODID:-//ALF Houston - ECPv6.15.1.1//NONSGML v1.0//EN
CALSCALE:GREGORIAN
METHOD:PUBLISH
X-WR-CALNAME:ALF Houston
X-ORIGINAL-URL:https://www.alfhouston.com
X-WR-CALDESC:Events for ALF Houston
REFRESH-INTERVAL;VALUE=DURATION:PT1H
X-Robots-Tag:noindex
X-PUBLISHED-TTL:PT1H
BEGIN:VTIMEZONE
TZID:America/Chicago
BEGIN:DAYLIGHT
TZOFFSETFROM:-0600
TZOFFSETTO:-0500
TZNAME:CDT
DTSTART:20260308T080000
END:DAYLIGHT
BEGIN:STANDARD
TZOFFSETFROM:-0500
TZOFFSETTO:-0600
TZNAME:CST
DTSTART:20261101T070000
END:STANDARD
END:VTIMEZONE
BEGIN:VEVENT
DTSTART;TZID=America/Chicago:20260227T083000
DTEND;TZID=America/Chicago:20260227T160000
DTSTAMP:20260425T122446
CREATED:20260202T165215Z
LAST-MODIFIED:20260227T165238Z
UID:13432-1772181000-1772208000@www.alfhouston.com
SUMMARY:2026 Leadership Labs - Part 1
DESCRIPTION:Leadership Labs workshops designed to support the activation of the newly commenced Senior Fellows and the broader ALF community.\n\n\nJoin Senior Fellows from across the ALF network and the newly commenced Class 64 and Class 65 and for a two-part workshop series designed to move you from insight to action.\nFriday\, February 27 & Friday\, March 27 from 8:30am – 4:00pm \n@ 1801 Main Street\, 11th floor \nLeadership Labs are a dedicated space for ALF Senior Fellows to stoke their leadership fire. Whether you need to tend to your inner flame or fan the flames of an external project\, you will find a supportive community of peers and facilitators to help you: \n\nClarify your focus on an issue of deep importance to you\nGalvanize support and build momentum for collective action\nSharpen the skills and insights from your Fellows year\nPractice leadership in a courageous\, collaborative\, ALF environment\nGain practical tools and strategies to address your leadership challenges\n\nChoose Your Track! \nTrack 1: Tending Your FlameBefore a fire can light the way for others\, it must be carefully tended. This track is a dedicated space to nurture your inner resources—renewing your energy\, clarifying your purpose\, and building the resilience required for the long journey of leadership. \nTrack 2: Fanning the FlamesEvery great movement begins with a spark. This track is for turning that spark into a lasting fire. Bring your idea or initiative and\, with the support of a dedicated community\, fuel it with strategy\, feedback\, and actionable steps to grow its impact. \nAdditonal Details: \n\nCost: Free (and lunch is provided)\nRegistration Required: Limited spots available—register by February 18th\nRegistration is a commitment to attend both days: Part I (Feb 27) and Part II (Mar 27)\nPrerequisite: Attendance at Part I is mandatory to participate in Part II\n\nDon’t miss this opportunity to deepen your impact\, connect with the ALF network\, and take bold steps toward addressing the challenges that matter most to you. \nFor more information and to sign up\, use this link!
URL:https://www.alfhouston.com/event/2026-leadership-labs-part-1/
LOCATION:ALF Leadership Hub\, 1801 Main Street 11th Floor Conference Center\, Houston\, TX 77002\, Houston\, TX\, 77002\, US
ATTACH;FMTTYPE=image/jpeg:https://www.alfhouston.com/wp-content/uploads/2026/02/13432_image.jpg
END:VEVENT
BEGIN:VEVENT
DTSTART;TZID=America/Chicago:20260323T080000
DTEND;TZID=America/Chicago:20260323T100000
DTSTAMP:20260425T122446
CREATED:20260127T045215Z
LAST-MODIFIED:20260323T045201Z
UID:13412-1774252800-1774260000@www.alfhouston.com
SUMMARY:Stronger Together: Growing Connection and Belonging Community-Wide
DESCRIPTION:Join the community to explore research on connection and belonging—and help shape a shared vision for the future of Houston\n\n\nA gathering to activate and ignite community-wide momentum around strengthening connection and belonging. This effort is intentionally inclusive—casting a wide net so all are welcome—and centers on building shared understanding of the research\, raising awareness\, and galvanizing collective support. The goal is to move from insight to action\, inviting individuals and organizations to make meaningful commitments that advance belonging and connection across the community. \nThis event has been inspired by the Kinder Institute at Rice University report “Sense of Achievement\, Belonging and Connection” and is organized by a partnership between the Kinder Institute\, the YMCA of Greater Houston\, the Houston Food Bank\, and ALF Houston/Gulf Coast.
URL:https://www.alfhouston.com/event/stronger-together-growing-connection-and-belonging-community-wide/
LOCATION:Tellepsen Family Downtown YMCA\, 808 Pease Street\, Houston\, TX 77002\, Houston\, TX\, 77002\, US
ATTACH;FMTTYPE=image/jpeg:https://www.alfhouston.com/wp-content/uploads/2026/01/13412_image.jpg
END:VEVENT
BEGIN:VEVENT
DTSTART;TZID=America/Chicago:20260326T173000
DTEND;TZID=America/Chicago:20260326T193000
DTSTAMP:20260425T122446
CREATED:20260213T045240Z
LAST-MODIFIED:20260326T165249Z
UID:13490-1774546200-1774553400@www.alfhouston.com
SUMMARY:Celebrating Houston's Trailblazers
DESCRIPTION:ALF is hosting a Happy Hour to Celebrate Senior Fellows Maria Moncada-Alaoui and Amy Perez\, hosted by Senior Fellow Stephanie Tsuru!\n\n\nIn honor of International Women’s Month\, join ALF for an inspiring evening spotlighting two extraordinary leaders who are forging unique paths. \nAt Celebrating Houston’s Trailblazers\, we will spotlight two trailblazing Senior Fellows forging new paths: \n\nMaria Moncada-Alaoui\, Class 63\, a senior executive who has built her entire career in the automotive industry—navigating\, leading\, and thriving in a field where women remain underrepresented.\nAmy Perez\, Class 64\, the newly appointed CFO of one of Houston’s major sports stadiums\, stepping into a high-impact financial leadership role at the center of one of the city’s most visible institutions.\n\nThese remarkable leaders will be featured in an engaging fireside chat moderated by Senior Fellow Stephanie Tsuru\, Class 55 and co-founder of SheSpace\, the women-centered coworking community she launched five years ago. The conversation will explore career inflection points\, influence\, and what it takes to lead under often challenging circumstances. \nFollowing the program\, guests will enjoy light bites and libations while connecting with fellow ALF Senior Fellows and community leaders. This evening is designed to celebrate and connect leaders! \nWhile this event honors women and the spirit of International Women’s Month\, it is open to everyone. We welcome men and women alike to join us in celebrating leadership and community. \nCome ready to be inspired—and to build community with Houston’s changemakers.
URL:https://www.alfhouston.com/event/celebrating-houstons-trailblazers/
LOCATION:SheSpace\, 2799 Katy Freeway #Suite 250\, Houston\, TX 77007\, Houston\, TX\, 77007\, US
ATTACH;FMTTYPE=image/png:https://www.alfhouston.com/wp-content/uploads/2026/02/13490_image-1.png
END:VEVENT
BEGIN:VEVENT
DTSTART;TZID=America/Chicago:20260413T080000
DTEND;TZID=America/Chicago:20260413T173000
DTSTAMP:20260425T122446
CREATED:20260224T045205Z
LAST-MODIFIED:20260413T165236Z
UID:13519-1776067200-1776101400@www.alfhouston.com
SUMMARY:Mobilizing Houston
DESCRIPTION:A two-day immersive forum equipping leaders with the skills and relationships to lead through complexity and mobilize action.\n\n\nMobilizing Houston is a two-day immersive forum designed for leaders who are ready to move beyond conversation and into coordinated action. Attendace to both dates of the Forum is required. Day 1 is Monday\, April 13 and Day 2 is Monday\, April 20. \nOver the course of two days\, you will engage in facilitated\, highly interactive experiences that explore Houston’s challenges across education access\, workforce development\, and economic mobility. Through data\, dialogue\, and experiential learning\, you’ll deepen your understanding of the complexity shaping our region\, and your role within it. \nThis forum is designed to help you: \n\nStrengthen the working relationships that make collective action possible\nDevelop a shared language for navigating complexity\nExplore adaptive tools and frameworks you can apply within your teams\, coalitions\, and systems\n\nTogether\, we will build the relational foundation and practical capacity needed to mobilize toward shared purpose\, not just during the convening\, but in the months and years that follow. \nMobilizing Houston invites you to show up with curiosity\, courage\, and a commitment to advancing coordinated action for the future of the Houston Gulf Coast Region.
URL:https://www.alfhouston.com/event/mobilizing-houston/
LOCATION:The Ismaili Center\, 2323 Allen Parkway\, Houston\, TX 77019\, Houston\, TX\, 77019\, US
ATTACH;FMTTYPE=image/png:https://www.alfhouston.com/wp-content/uploads/2026/02/13519_image.png
END:VEVENT
BEGIN:VEVENT
DTSTART;TZID=America/Chicago:20260422T130000
DTEND;TZID=America/Chicago:20260422T134500
DTSTAMP:20260425T122446
CREATED:20260419T045412Z
LAST-MODIFIED:20260422T045210Z
UID:13711-1776862800-1776865500@www.alfhouston.com
SUMMARY:ALF Ismaili Center Tour
DESCRIPTION:An opportunity for Bridge Houston Practitioners to get a guided tour of the Ismaili Center joined by some ALF Senior Fellows.\n\n\nThe very knowledgable Ismaili Center tour guides will provide information on the Ismaili Center’s architecture\, symbolism and the Ismaili faith.
URL:https://www.alfhouston.com/event/alf-ismaili-center-tour/
LOCATION:The Ismaili Center\, 2323 Allen Parkway\, Houston\, TX 77019\, Houston\, TX\, 77019\, US
ATTACH;FMTTYPE=image/png:https://www.alfhouston.com/wp-content/uploads/2026/04/13711_image.png
END:VEVENT
BEGIN:VEVENT
DTSTART;TZID=America/Chicago:20260422T140000
DTEND;TZID=America/Chicago:20260528T144500
DTSTAMP:20260425T122446
CREATED:20260419T045416Z
LAST-MODIFIED:20260422T045211Z
UID:13713-1776866400-1779979500@www.alfhouston.com
SUMMARY:ALF Ismaili Center Tour
DESCRIPTION:An opportunity for Bridge Houston Practitioners to get a guided tour of the Ismaili Center joined by some ALF Senior Fellows.\n\n\nThe very knowledgable Ismaili Center tour guides will provide information on the Ismaili Center’s architecture\, symbolism and the Ismaili faith.
URL:https://www.alfhouston.com/event/alf-ismaili-center-tour-2/
LOCATION:The Ismaili Center\, 2323 Allen Parkway\, Houston\, TX 77019\, Houston\, TX\, 77019\, US
ATTACH;FMTTYPE=image/png:https://www.alfhouston.com/wp-content/uploads/2026/04/13711_image.png
END:VEVENT
BEGIN:VEVENT
DTSTART;TZID=America/Chicago:20260423T130000
DTEND;TZID=America/Chicago:20260528T134500
DTSTAMP:20260425T122446
CREATED:20260419T045417Z
LAST-MODIFIED:20260422T165202Z
UID:13714-1776949200-1779975900@www.alfhouston.com
SUMMARY:ALF Ismaili Center Tour
DESCRIPTION:An opportunity for Bridge Houston Practitioners to get a guided tour of the Ismaili Center joined by some ALF Senior Fellows.\n\n\nThe very knowledgable Ismaili Center tour guides will provide information on the Ismaili Center’s architecture\, symbolism and the Ismaili faith.
URL:https://www.alfhouston.com/event/alf-ismaili-center-tour-3/
LOCATION:The Ismaili Center\, 2323 Allen Parkway\, Houston\, TX 77019\, Houston\, TX\, 77019\, US
ATTACH;FMTTYPE=image/png:https://www.alfhouston.com/wp-content/uploads/2026/04/13711_image.png
END:VEVENT
BEGIN:VEVENT
DTSTART;TZID=America/Chicago:20260505T113000
DTEND;TZID=America/Chicago:20260505T133000
DTSTAMP:20260425T122446
CREATED:20260409T045235Z
LAST-MODIFIED:20260425T045451Z
UID:13677-1777980600-1777987800@www.alfhouston.com
SUMMARY:Asian Leaders Lunch
DESCRIPTION:Come celebrate in honor of AAPI Month and Nory’s birthday\, followed by a special announcement!\n\n\nCome celebrate AAPI Month — and Nory’s birthday — with your ALF community on Tuesday\, May 5th! \nLunch is from 12:00 to 1:30! \nJoin us for a special lunch co-hosted by Senior Fellows Donna Cole\, Nancy Li\, and Soner Tarim in partnership with Bill Boyar as we gather to celebrate Asian leaders in our community and the strength of the ALF network. \nThe lunch will be followed by a special announcement — so special\, in fact\, that Nory is sharing it on her birthday. \nIn lieu of gifts\, please consider making a gift to ALF’s Annual Giving Campaign (not required to attend). \nWe hope you’ll join us for an afternoon of connection\, celebration\, and community.
URL:https://www.alfhouston.com/event/asian-leaders-lunch/
LOCATION:BoyarMiller Law Office\, 2925 Richmond Avenue\, Houston\, TX 77098\, Houston\, TX\, 77098\, US
ATTACH;FMTTYPE=image/png:https://www.alfhouston.com/wp-content/uploads/2026/04/13677_image.png
END:VEVENT
BEGIN:VEVENT
DTSTART;TZID=America/Chicago:20260506T180000
DTEND;TZID=America/Chicago:20260506T200000
DTSTAMP:20260425T122446
CREATED:20260424T045625Z
LAST-MODIFIED:20260425T045450Z
UID:13739-1778090400-1778097600@www.alfhouston.com
SUMMARY:American Leadership Forum 2026 Fellows Opening Reception
DESCRIPTION:ALF Opening Reception for 2026 Fellows Classes\n\n\nWe are excited to formally welcome the Fellows of Classes 66 and 67 of the American Leadership Forum to the beginning of what we hope will be a most memorable year! \nJoin us for your Opening Reception on the evening of Wednesday\, May 6th\, at 6 pm on the 11th floor of 1801 Main Street to meet the outstanding leaders of the Houston community in your class and cohort year\, as well as the ALF facilitators\, board\, and staff. \nAppetizers and drinks will be served\, information will be shared about the upcoming orientation retreat\, and you will have time to meet with your class and facilitators. \nPlease use our parking garage at no cost. The entrance is on Fannin Street. You’ll pull a ticket to enter (but will not need it to exit). Once parked\, take the elevator down to the courtyard\, and the entrace to the building is on the other side of the courtyard. Take the elevators straight ahead to the 11th floor. \n \n*This event is for ALF Fellows\, Board and Staff. There will be other events in the future where you are welcome to bring family or friends.
URL:https://www.alfhouston.com/event/american-leadership-forum-2026-fellows-opening-reception/
LOCATION:1801 Main St 11th floor\, 1801 Main Street #11th floor\, Houston\, TX 77002\, Houston\, TX\, 77002\, US
ATTACH;FMTTYPE=image/png:https://www.alfhouston.com/wp-content/uploads/2026/04/13739_image.png
END:VEVENT
BEGIN:VEVENT
DTSTART;TZID=America/Chicago:20260601T113000
DTEND;TZID=America/Chicago:20260601T133000
DTSTAMP:20260425T122446
CREATED:20260417T045205Z
LAST-MODIFIED:20260425T045452Z
UID:13702-1780313400-1780320600@www.alfhouston.com
SUMMARY:Bridging Data to Impact: Creating Change in Education and Workforce Policy
DESCRIPTION:Join us to explore how data insights can influence education and workforce policies for real change.\n\n\nMore than 60% of jobs in Texas require a postsecondary credential\, yet only about 1 in 3 Texas high school graduates earn one within six years of graduation. \nJoin the American Leadership Forum and its partnering organizations for a conversation with David Leebron\, former President of Rice University\, and members of his team at Texas 2036 — a nonpartisan nonprofit organization dedicated to improving lives and expanding opportunities for all Texas through its bicentennial and beyond. \nDavid will be joined by John Hryhorchuk\, Senior Vice President of Policy and Advocacy\, and Mary Lynn Pruneda\, Director of Education and Workforce Policy\, for a discussion on one of Texas’s most pressing challenges: building the educated workforce the state’s economy demands. \nThe Texas 2036 team will share key research insights on education and workforce policy and what it will take to close that gap\, in a conversation moderated by ALF Senior Fellow Y. Ping Sun. This lunch is generously underwritten by ALF Senior Fellow Donna Cole of Cole Chemical. \nThis event is presented in partnership with United Way\, Leadership Houston\, Center for Houston’s Future\, Cole Chemical\, and the Greater Houston Women’s Chamber of Commerce.
URL:https://www.alfhouston.com/event/bridging-data-to-impact-creating-change-in-education-and-workforce-policy/
LOCATION:Amegy Tower\, 1717 West Loop South\, Houston\, TX 77027\, Houston\, TX\, 77027\, US
ATTACH;FMTTYPE=image/jpeg:https://www.alfhouston.com/wp-content/uploads/2026/04/13702_image.jpg
END:VEVENT
END:VCALENDAR