BEGIN:VCALENDAR
VERSION:2.0
PRODID:-//ALF Houston - ECPv6.15.1.1//NONSGML v1.0//EN
CALSCALE:GREGORIAN
METHOD:PUBLISH
X-WR-CALNAME:ALF Houston
X-ORIGINAL-URL:https://www.alfhouston.com
X-WR-CALDESC:Events for ALF Houston
REFRESH-INTERVAL;VALUE=DURATION:PT1H
X-Robots-Tag:noindex
X-PUBLISHED-TTL:PT1H
BEGIN:VTIMEZONE
TZID:America/Chicago
BEGIN:DAYLIGHT
TZOFFSETFROM:-0600
TZOFFSETTO:-0500
TZNAME:CDT
DTSTART:20220313T080000
END:DAYLIGHT
BEGIN:STANDARD
TZOFFSETFROM:-0500
TZOFFSETTO:-0600
TZNAME:CST
DTSTART:20221106T070000
END:STANDARD
END:VTIMEZONE
BEGIN:VEVENT
DTSTART;TZID=America/Chicago:20220211T080000
DTEND;TZID=America/Chicago:20220211T093000
DTSTAMP:20260425T205634
CREATED:20240209T133108Z
LAST-MODIFIED:20240209T133108Z
UID:1050-1644566400-1644571800@www.alfhouston.com
SUMMARY:Second Friday Breakfast Dialogue
DESCRIPTION:ALF Second Friday Breakfasts provides Senior Fellows an opportunity for deep dialogue on important and timely topics in our community.\n\n\n\nFebruary 2022 Topic: “The Hidden ‘D’ (Disability) in DEI.”  \nWhat defines “disability” and what role does this “hidden D” play in DEI? \nOur Second Friday panel will present a data-based case for workplace disability inclusion and share impactful tips and success stories around engaging and attracting employees with disabilities.   \nPanelists: \n\nDiana Codispoti\, Director of Global Corporate Engagement\, Disability:IN; and Co-Chair\, ReelAbilities Houston 2022\nLisa Helfman\, Senior Director of Public Affairs\, H-E-B Houston; and Sr. Fellow\, Medical Community Class IV\nGabe Cazares\, Director of the Mayor’s Office for People with Disabilities; and incoming Fellow\, Class LVI\n\nFacilitated by Dee Dee Dochen\, DDD Marketing Communications; past ReelAbilities Houston Chair; and Sr. Fellow\, Class XXXII \nLearn more about workplace disability issues and opportunities at ReelWorkplace on Feb. 17. This free online lunchtime seminar is part of the 2022 ReelAbilities Houston Film & Arts Festival. More information and registration here: www.ReelAbilitiesHouston.org \n \nSecond Friday Breakfast will meet in the Azalea Room at The Briar Club. Parking available in garage across the street (on Timmons).
URL:https://www.alfhouston.com/event/second-friday-breakfast-dialogue-6/
LOCATION:The Briar Club\, 2603 Timmons Lane\, Houston\, TX 77027\, Houston\, TX\, 77027\, US
ATTACH;FMTTYPE=image/png:https://www.alfhouston.com/wp-content/uploads/2024/02/1050_image.png
END:VEVENT
END:VCALENDAR